BEGIN:VCALENDAR
VERSION:2.0
PRODID:-//frivillighetkalenderen norge - ECPv6.15.13.1//NONSGML v1.0//EN
CALSCALE:GREGORIAN
METHOD:PUBLISH
X-ORIGINAL-URL:https://frivillighetskalenderen.com
X-WR-CALDESC:Arrangement for frivillighetkalenderen norge
REFRESH-INTERVAL;VALUE=DURATION:PT1H
X-Robots-Tag:noindex
X-PUBLISHED-TTL:PT1H
BEGIN:VTIMEZONE
TZID:Europe/Paris
BEGIN:DAYLIGHT
TZOFFSETFROM:+0100
TZOFFSETTO:+0200
TZNAME:CEST
DTSTART:20240331T010000
END:DAYLIGHT
BEGIN:STANDARD
TZOFFSETFROM:+0200
TZOFFSETTO:+0100
TZNAME:CET
DTSTART:20241027T010000
END:STANDARD
BEGIN:DAYLIGHT
TZOFFSETFROM:+0100
TZOFFSETTO:+0200
TZNAME:CEST
DTSTART:20250330T010000
END:DAYLIGHT
BEGIN:STANDARD
TZOFFSETFROM:+0200
TZOFFSETTO:+0100
TZNAME:CET
DTSTART:20251026T010000
END:STANDARD
BEGIN:DAYLIGHT
TZOFFSETFROM:+0100
TZOFFSETTO:+0200
TZNAME:CEST
DTSTART:20260329T010000
END:DAYLIGHT
BEGIN:STANDARD
TZOFFSETFROM:+0200
TZOFFSETTO:+0100
TZNAME:CET
DTSTART:20261025T010000
END:STANDARD
END:VTIMEZONE
BEGIN:VTIMEZONE
TZID:Europe/Madrid
BEGIN:DAYLIGHT
TZOFFSETFROM:+0100
TZOFFSETTO:+0200
TZNAME:CEST
DTSTART:20240331T010000
END:DAYLIGHT
BEGIN:STANDARD
TZOFFSETFROM:+0200
TZOFFSETTO:+0100
TZNAME:CET
DTSTART:20241027T010000
END:STANDARD
BEGIN:DAYLIGHT
TZOFFSETFROM:+0100
TZOFFSETTO:+0200
TZNAME:CEST
DTSTART:20250330T010000
END:DAYLIGHT
BEGIN:STANDARD
TZOFFSETFROM:+0200
TZOFFSETTO:+0100
TZNAME:CET
DTSTART:20251026T010000
END:STANDARD
BEGIN:DAYLIGHT
TZOFFSETFROM:+0100
TZOFFSETTO:+0200
TZNAME:CEST
DTSTART:20260329T010000
END:DAYLIGHT
BEGIN:STANDARD
TZOFFSETFROM:+0200
TZOFFSETTO:+0100
TZNAME:CET
DTSTART:20261025T010000
END:STANDARD
END:VTIMEZONE
BEGIN:VEVENT
DTSTART;TZID=Europe/Paris:20250622T153000
DTEND;TZID=Europe/Paris:20250622T180000
DTSTAMP:20260419T192526
CREATED:20250219T190045Z
LAST-MODIFIED:20250219T190234Z
UID:566-1750606200-1750615200@frivillighetskalenderen.com
SUMMARY:Gudstjeneste - Bergen
DESCRIPTION:Velkommen til gudstjeneste \nKristkirkens lokaler i Slåtthaugvegen 21\, Bergen
URL:https://frivillighetskalenderen.com/event/gudstjeneste-bergen/
LOCATION:Kristkirken i Bergen\, Slåtthaugvegen 21\, Bergen\, Vestland\, 5222\, Norway
CATEGORIES:Alle Aktiviteter,Møte,Vestland
ATTACH;FMTTYPE=image/jpeg:https://frivillighetskalenderen.com/wp-content/uploads/2025/02/Kristkirken-1536x1024-1.jpg
END:VEVENT
BEGIN:VEVENT
DTSTART;TZID=Europe/Paris:20250614T090000
DTEND;TZID=Europe/Paris:20250614T160000
DTSTAMP:20260419T192526
CREATED:20250219T184256Z
LAST-MODIFIED:20250219T184256Z
UID:561-1749891600-1749916800@frivillighetskalenderen.com
SUMMARY:Freimarka\, rundtur på nordsiden av Frei - Kristiansund
DESCRIPTION:Freimarkas Venner\, sammen med KNT\, inviterer til fottur på nordsiden av Frei. Turen blir etter ny-kloppede stier\, mye i blaut myr som før gav noen utfordringer i forbindelse med framkommelighet. \nVi starter ved trafostasjonen på Rensvik (parkering) og går over Stangarhaugen\, over Veltersteinmyra\, opp Breiliskaret\, forbi Mehaugtjønna\, Kjerringvatnet til Setervatnet. Alt etter forholdene i terrenget velger vi rute tilbake\, enten over Skarvene til Drabovatnet\, eller opp til Matlausfjellet\, Breilia\, ned Guridalen til Breiliskaret. En fin rundtur i variert terreng og natur. \nKanskje vil deler av denne turen bli en kortreist favoritt for mange av innbyggere i kommunen. Turfolk i nabokommuner ønskes spesielt velkomne. \nUnder turen blir det litt informasjon om artsmangfoldet vi beveger oss gjennom. \nOppmøte: Trafostasjonen på Rensvik (Kvalvågveien) kl 0900  \nTurleder: Lars Ola Fiske\, tlf 97 96 84 67 E-post: lars.lemans76@gmail.com \nPåmelding innen 13. Juni på dnt.no/knt eller send melding til turleder \nKart: Norge-serien Kristiansund \nTurpris kr 50.- ikke medlem kr 100
URL:https://frivillighetskalenderen.com/event/freimarka-rundtur-pa-nordsiden-av-frei-kristiansund/
LOCATION:Trafostasjonen Rensvik\, Kvalvågveien\, Frei\, Møre og Romsdal\, 6521\, Norway
CATEGORIES:Alle Aktiviteter,Møre og Romsdal,Utflukt/Stevne
ATTACH;FMTTYPE=image/jpeg:https://frivillighetskalenderen.com/wp-content/uploads/2025/02/tur.jpg
END:VEVENT
BEGIN:VEVENT
DTSTART;TZID=Europe/Paris:20250524T110000
DTEND;TZID=Europe/Paris:20250525T180000
DTSTAMP:20260419T192526
CREATED:20250219T182416Z
LAST-MODIFIED:20250219T182431Z
UID:556-1748084400-1748196000@frivillighetskalenderen.com
SUMMARY:Oslo Vegetar festival - Oslo
DESCRIPTION:Vi er en inspirerende og idyllisk matfestival som brenner for plantebasert mat. På festivalen opplever du landets største plantebaserte food court og marked\, kokkekurs\, foredrag og en uforglemmelig atmosfære. \nVi er festivalen for plantebasert mat \nVårt mål er å inspirere flere til å spise mer plantebasert\, enten de gjør det for miljø og klima\, for dyrene\, for egen helse eller bare fordi det smaker sykt godt! \nOslo Vegetarfestival er matfestivalen der du får oppleve smaksrikdommen\, luktene\, teksturene og gledene ved plantebasert mat. Om du er veganer\, vegetarianer\, fleksitarianer eller altetende spiller ingen rolle! \nGå til https://www.oslovegetarfestival.no/ for billetter og full informasjon.
URL:https://frivillighetskalenderen.com/event/oslo-vegetar-festival-oslo/
LOCATION:Kubaparken\, Maridalsveien 20\, Oslo\, Oslo\, 0178\, Norway
CATEGORIES:Alle Aktiviteter,Oslo,Utflukt/Stevne
ATTACH;FMTTYPE=image/avif:https://frivillighetskalenderen.com/wp-content/uploads/2025/02/osloveg.avif
END:VEVENT
BEGIN:VEVENT
DTSTART;TZID=Europe/Paris:20250405T120000
DTEND;TZID=Europe/Paris:20250406T140000
DTSTAMP:20260419T192526
CREATED:20250219T181034Z
LAST-MODIFIED:20250219T181055Z
UID:551-1743854400-1743948000@frivillighetskalenderen.com
SUMMARY:Kurs i kart og kompass - Askøy
DESCRIPTION:Askøy o-lag inviterer til kurs i kart og kompass. Du lærer å bruke og forstå kartet\, samt ta ut kompasskurs. \nKurset består av en teoridel og en praktisk del ute.\nSted: Ravnanger idrettsanlegg. \nPasser for voksne og er GRATIS.
URL:https://frivillighetskalenderen.com/event/kurs-i-kart-og-kompass-askoy/
LOCATION:Ravnanger Idrettsanlegg\, Rindalsvegen\, Hauglandshella\, Vestland\, 5310\, Norway
CATEGORIES:Alle Aktiviteter,Seminar,Vestland
ATTACH;FMTTYPE=image/png:https://frivillighetskalenderen.com/wp-content/uploads/2025/02/orientering.png
END:VEVENT
BEGIN:VEVENT
DTSTART;TZID=Europe/Madrid:20250313T174500
DTEND;TZID=Europe/Madrid:20250313T235900
DTSTAMP:20260419T192526
CREATED:20250224T192007Z
LAST-MODIFIED:20250224T192339Z
UID:578-1741887900-1741910340@frivillighetskalenderen.com
SUMMARY:Digitalt pårørende treff
DESCRIPTION:Vi planlegger nå et digitalt pårørende treff. Det vil være et lavterskel tilbud og her vil vi svare deg på alt du lurer på så godt vi kan. Vi vil ha dette på Teams og der kan du være ganske anonym. Det er viktig at dere alle som vil delta ikke deler ute på sosiale medier hva som snakkes om. Vi i stiftelsen ALS Norge har taushetsplikt og er helsepersonell og har vært pårørende og jobbet i ALS team. Vi tenker oss vårt første pårørende treff torsdag 13 mars på Teams kl. 17.00. Vi må ha påmelding av deg for å få deg inn i møte (du får møtelenke). Du kan melde deg på med og sende oss en e-post på: Post@alsnorge.no \nVelkommen til vårt første digitale pårørende treff som blir holdt på Teams.
URL:https://frivillighetskalenderen.com/event/digitalt-parorende-treff/
LOCATION:Digitalt i Teams\, Norway
CATEGORIES:Alle Aktiviteter,Digitalt,Seminar
ATTACH;FMTTYPE=image/jpeg:https://frivillighetskalenderen.com/wp-content/uploads/2025/02/ALS.jpg
END:VEVENT
BEGIN:VEVENT
DTSTART;TZID=Europe/Paris:20250304T183000
DTEND;TZID=Europe/Paris:20250304T203000
DTSTAMP:20260419T192526
CREATED:20250219T130241Z
LAST-MODIFIED:20250219T135401Z
UID:525-1741113000-1741120200@frivillighetskalenderen.com
SUMMARY:Tirsdagsklubben - Elnesvågen
DESCRIPTION:Tirsdagsklubben \nFor hele familien\, spesielt tilrettelagt for funksjonshemmede. Andakt\, sang og musikk\, aktiviteter og leker\, kveldsmat. \nKontaktperson: Jon Ivar Bøe\nTel: 476 44 766 \nLiker du å:\n– delta i sang og musikk\n– prate og gjøre noe sammen med andre\n– har du lyst å spise kveldsmat sammen med andre?\n( Maten koster kr. 50\,-) \nDa er du hjertelig velkommen!
URL:https://frivillighetskalenderen.com/event/tirsdagsklubben-elnesvagen/
LOCATION:Elnesvågen Bedehus\, Elnesvågvegen\, Elnesvågen\, Møre og Romsdal\, 6440\, Norway
CATEGORIES:Alle Aktiviteter,Møre og Romsdal,Møte
ATTACH;FMTTYPE=image/jpeg:https://frivillighetskalenderen.com/wp-content/uploads/2025/02/Bedehus.jpg
END:VEVENT
END:VCALENDAR